BEGIN:VCALENDAR
VERSION:2.0
PRODID:-//Skye Bar Ocean City MD Rooftop Bar &amp; Restaurant - ECPv5.9.0//NONSGML v1.0//EN
CALSCALE:GREGORIAN
METHOD:PUBLISH
X-WR-CALNAME:Skye Bar Ocean City MD Rooftop Bar &amp; Restaurant
X-ORIGINAL-URL:https://skyebaroc.com
X-WR-CALDESC:Events for Skye Bar Ocean City MD Rooftop Bar &amp; Restaurant
BEGIN:VTIMEZONE
TZID:America/New_York
BEGIN:DAYLIGHT
TZOFFSETFROM:-0500
TZOFFSETTO:-0400
TZNAME:EDT
DTSTART:20240310T070000
END:DAYLIGHT
BEGIN:STANDARD
TZOFFSETFROM:-0400
TZOFFSETTO:-0500
TZNAME:EST
DTSTART:20241103T060000
END:STANDARD
END:VTIMEZONE
BEGIN:VEVENT
DTSTART;TZID=America/New_York:20240803T160000
DTEND;TZID=America/New_York:20240803T200000
DTSTAMP:20260421T150314
CREATED:20240725T161617Z
LAST-MODIFIED:20240725T161617Z
UID:5395-1722700800-1722715200@skyebaroc.com
SUMMARY:This Your Monkey
DESCRIPTION:
URL:https://skyebaroc.com/event/this-your-monkey-16/
END:VEVENT
END:VCALENDAR