BEGIN:VCALENDAR
VERSION:2.0
PRODID:-//Skye Bar Ocean City MD Rooftop Bar &amp; Restaurant - ECPv5.9.0//NONSGML v1.0//EN
CALSCALE:GREGORIAN
METHOD:PUBLISH
X-WR-CALNAME:Skye Bar Ocean City MD Rooftop Bar &amp; Restaurant
X-ORIGINAL-URL:https://skyebaroc.com
X-WR-CALDESC:Events for Skye Bar Ocean City MD Rooftop Bar &amp; Restaurant
BEGIN:VTIMEZONE
TZID:America/New_York
BEGIN:DAYLIGHT
TZOFFSETFROM:-0500
TZOFFSETTO:-0400
TZNAME:EDT
DTSTART:20250309T070000
END:DAYLIGHT
BEGIN:STANDARD
TZOFFSETFROM:-0400
TZOFFSETTO:-0500
TZNAME:EST
DTSTART:20251102T060000
END:STANDARD
END:VTIMEZONE
BEGIN:VEVENT
DTSTART;TZID=America/New_York:20250104T200000
DTEND;TZID=America/New_York:20250104T220000
DTSTAMP:20260420T213120
CREATED:20250102T172414Z
LAST-MODIFIED:20250102T172547Z
UID:5749-1736020800-1736028000@skyebaroc.com
SUMMARY:Steelers vs. Bengals
DESCRIPTION:
URL:https://skyebaroc.com/event/steelers-vs-bengals/
END:VEVENT
END:VCALENDAR