BEGIN:VCALENDAR
VERSION:2.0
PRODID:-//Skye Bar Ocean City MD Rooftop Bar &amp; Restaurant - ECPv5.9.0//NONSGML v1.0//EN
CALSCALE:GREGORIAN
METHOD:PUBLISH
X-WR-CALNAME:Skye Bar Ocean City MD Rooftop Bar &amp; Restaurant
X-ORIGINAL-URL:https://skyebaroc.com
X-WR-CALDESC:Events for Skye Bar Ocean City MD Rooftop Bar &amp; Restaurant
BEGIN:VTIMEZONE
TZID:America/New_York
BEGIN:DAYLIGHT
TZOFFSETFROM:-0500
TZOFFSETTO:-0400
TZNAME:EDT
DTSTART:20240310T070000
END:DAYLIGHT
BEGIN:STANDARD
TZOFFSETFROM:-0400
TZOFFSETTO:-0500
TZNAME:EST
DTSTART:20241103T060000
END:STANDARD
END:VTIMEZONE
BEGIN:VEVENT
DTSTART;TZID=America/New_York:20241231T160000
DTEND;TZID=America/New_York:20241231T200000
DTSTAMP:20260420T230427
CREATED:20241209T200447Z
LAST-MODIFIED:20241209T200447Z
UID:5697-1735660800-1735675200@skyebaroc.com
SUMMARY:Opposite Directions
DESCRIPTION:4-8 pm no cover\nFree Champagne and Party Favors at Midnight! Make your Reservations now!
URL:https://skyebaroc.com/event/opposite-directions-3/
END:VEVENT
END:VCALENDAR