BEGIN:VCALENDAR
VERSION:2.0
PRODID:-//Skye Bar Ocean City MD Rooftop Bar &amp; Restaurant - ECPv5.9.0//NONSGML v1.0//EN
CALSCALE:GREGORIAN
METHOD:PUBLISH
X-WR-CALNAME:Skye Bar Ocean City MD Rooftop Bar &amp; Restaurant
X-ORIGINAL-URL:https://skyebaroc.com
X-WR-CALDESC:Events for Skye Bar Ocean City MD Rooftop Bar &amp; Restaurant
BEGIN:VTIMEZONE
TZID:America/New_York
BEGIN:DAYLIGHT
TZOFFSETFROM:-0500
TZOFFSETTO:-0400
TZNAME:EDT
DTSTART:20240310T070000
END:DAYLIGHT
BEGIN:STANDARD
TZOFFSETFROM:-0400
TZOFFSETTO:-0500
TZNAME:EST
DTSTART:20241103T060000
END:STANDARD
END:VTIMEZONE
BEGIN:VEVENT
DTSTART;TZID=America/New_York:20240114T120000
DTEND;TZID=America/New_York:20240114T200000
DTSTAMP:20260420T111117
CREATED:20240109T134415Z
LAST-MODIFIED:20240110T202314Z
UID:5022-1705233600-1705262400@skyebaroc.com
SUMMARY:Football Playoff Games!
DESCRIPTION:Pittsburgh vs. Buffalo\n1:00pm \nGreen Bay vs. Dallas\n4:30pm \nLos Angeles vs. Detroit\n8:00pm
URL:https://skyebaroc.com/event/football-playoff-games/
END:VEVENT
END:VCALENDAR