BEGIN:VCALENDAR
VERSION:2.0
PRODID:-//Skye Bar Ocean City MD Rooftop Bar &amp; Restaurant - ECPv5.9.0//NONSGML v1.0//EN
CALSCALE:GREGORIAN
METHOD:PUBLISH
X-WR-CALNAME:Skye Bar Ocean City MD Rooftop Bar &amp; Restaurant
X-ORIGINAL-URL:https://skyebaroc.com
X-WR-CALDESC:Events for Skye Bar Ocean City MD Rooftop Bar &amp; Restaurant
BEGIN:VTIMEZONE
TZID:America/New_York
BEGIN:DAYLIGHT
TZOFFSETFROM:-0500
TZOFFSETTO:-0400
TZNAME:EDT
DTSTART:20240310T070000
END:DAYLIGHT
BEGIN:STANDARD
TZOFFSETFROM:-0400
TZOFFSETTO:-0500
TZNAME:EST
DTSTART:20241103T060000
END:STANDARD
END:VTIMEZONE
BEGIN:VEVENT
DTSTART;TZID=America/New_York:20240113T160000
DTEND;TZID=America/New_York:20240113T170000
DTSTAMP:20260420T092839
CREATED:20240109T140539Z
LAST-MODIFIED:20240109T150233Z
UID:5030-1705161600-1705165200@skyebaroc.com
SUMMARY:Football Playoff Games!
DESCRIPTION:Cleveland vs. Houston\n4:30pm \nMiami vs. Kansas City\n8:00pm
URL:https://skyebaroc.com/event/football-playoff-games-2/
END:VEVENT
END:VCALENDAR