BEGIN:VCALENDAR
VERSION:2.0
PRODID:-//Skye Bar Ocean City MD Rooftop Bar &amp; Restaurant - ECPv5.9.0//NONSGML v1.0//EN
CALSCALE:GREGORIAN
METHOD:PUBLISH
X-WR-CALNAME:Skye Bar Ocean City MD Rooftop Bar &amp; Restaurant
X-ORIGINAL-URL:https://skyebaroc.com
X-WR-CALDESC:Events for Skye Bar Ocean City MD Rooftop Bar &amp; Restaurant
BEGIN:VTIMEZONE
TZID:America/New_York
BEGIN:DAYLIGHT
TZOFFSETFROM:-0500
TZOFFSETTO:-0400
TZNAME:EDT
DTSTART:20230312T070000
END:DAYLIGHT
BEGIN:STANDARD
TZOFFSETFROM:-0400
TZOFFSETTO:-0500
TZNAME:EST
DTSTART:20231105T060000
END:STANDARD
END:VTIMEZONE
BEGIN:VEVENT
DTSTART;VALUE=DATE:20231123
DTEND;VALUE=DATE:20231124
DTSTAMP:20260423T052714
CREATED:20230928T161250Z
LAST-MODIFIED:20231026T202330Z
UID:4933-1700697600-1700783999@skyebaroc.com
SUMMARY:CLOSED
DESCRIPTION:We will be closed on Thursday til further notice
URL:https://skyebaroc.com/event/closed-3/
END:VEVENT
END:VCALENDAR